BEGIN:VCALENDAR
VERSION:2.0
PRODID:-//Gary Christy - ECPv6.7.0//NONSGML v1.0//EN
CALSCALE:GREGORIAN
METHOD:PUBLISH
X-WR-CALNAME:Gary Christy
X-ORIGINAL-URL:https://garychristy.com
X-WR-CALDESC:Events for Gary Christy
REFRESH-INTERVAL;VALUE=DURATION:PT1H
X-Robots-Tag:noindex
X-PUBLISHED-TTL:PT1H
BEGIN:VTIMEZONE
TZID:UTC
BEGIN:STANDARD
TZOFFSETFROM:+0000
TZOFFSETTO:+0000
TZNAME:UTC
DTSTART:20240101T000000
END:STANDARD
END:VTIMEZONE
BEGIN:VEVENT
DTSTART;TZID=UTC:20240510T190000
DTEND;TZID=UTC:20240510T220000
DTSTAMP:20260422T014102
CREATED:20240422T153847Z
LAST-MODIFIED:20240422T153847Z
UID:1285-1715367600-1715378400@garychristy.com
SUMMARY:Youth Revival Rally
DESCRIPTION:Gary Christy Ministries is inviting all youth from 6th through 12th grade of the South Jersey region\, to come together for an incredible night in the presence of God! This will be a night to ignite and re-fire the youth of our region with anointed worship\, a powerful message\, a great time of fellowship with games and an abundance of prizes and giveaways! God is raising up the next generation of world changers! For more info or how to get involved\, please contact us at info@garychristy.com.
URL:https://garychristy.com/event/youth-revival-rally/
LOCATION:Atlantic Christian School\, 391 Zion Rd\, Egg Harbor Township\, NJ\, 08234\, United States
END:VEVENT
END:VCALENDAR