BEGIN:VCALENDAR
VERSION:2.0
PRODID:-//Gary Christy - ECPv6.7.0//NONSGML v1.0//EN
CALSCALE:GREGORIAN
METHOD:PUBLISH
X-WR-CALNAME:Gary Christy
X-ORIGINAL-URL:https://garychristy.com
X-WR-CALDESC:Events for Gary Christy
REFRESH-INTERVAL;VALUE=DURATION:PT1H
X-Robots-Tag:noindex
X-PUBLISHED-TTL:PT1H
BEGIN:VTIMEZONE
TZID:UTC
BEGIN:STANDARD
TZOFFSETFROM:+0000
TZOFFSETTO:+0000
TZNAME:UTC
DTSTART:20240101T000000
END:STANDARD
END:VTIMEZONE
BEGIN:VEVENT
DTSTART;TZID=UTC:20240309T100000
DTEND;TZID=UTC:20240309T120000
DTSTAMP:20260421T215559
CREATED:20240302T034527Z
LAST-MODIFIED:20240302T035040Z
UID:1275-1709978400-1709985600@garychristy.com
SUMMARY:Atlantic City Outreach
DESCRIPTION:
URL:https://garychristy.com/event/atlantic-city-outreach/
LOCATION:NJ
END:VEVENT
END:VCALENDAR